BEGIN:VCALENDAR
VERSION:2.0
PRODID:-//Grain Loft Wisconsin - ECPv6.15.20//NONSGML v1.0//EN
CALSCALE:GREGORIAN
METHOD:PUBLISH
X-WR-CALNAME:Grain Loft Wisconsin
X-ORIGINAL-URL:http://grainloftwisconsin.com
X-WR-CALDESC:Events for Grain Loft Wisconsin
REFRESH-INTERVAL;VALUE=DURATION:PT1H
X-Robots-Tag:noindex
X-PUBLISHED-TTL:PT1H
BEGIN:VTIMEZONE
TZID:UTC
BEGIN:STANDARD
TZOFFSETFROM:+0000
TZOFFSETTO:+0000
TZNAME:UTC
DTSTART:20250101T000000
END:STANDARD
END:VTIMEZONE
BEGIN:VEVENT
DTSTART;VALUE=DATE:20260821
DTEND;VALUE=DATE:20260822
DTSTAMP:20260423T155244
CREATED:20250611T141838Z
LAST-MODIFIED:20250618T160819Z
UID:27184-1787270400-1787356799@grainloftwisconsin.com
SUMMARY:Trinko / Kolitsch Wedding
DESCRIPTION:
URL:http://grainloftwisconsin.com/event/pending-wedding-187/
END:VEVENT
BEGIN:VEVENT
DTSTART;VALUE=DATE:20260822
DTEND;VALUE=DATE:20260823
DTSTAMP:20260423T155244
CREATED:20250310T162610Z
LAST-MODIFIED:20250318T173209Z
UID:27100-1787356800-1787443199@grainloftwisconsin.com
SUMMARY:Nicora / Romback Wedding
DESCRIPTION:
URL:http://grainloftwisconsin.com/event/pending-wedding-174/
END:VEVENT
BEGIN:VEVENT
DTSTART;VALUE=DATE:20260823
DTEND;VALUE=DATE:20260824
DTSTAMP:20260423T155244
CREATED:20250611T142009Z
LAST-MODIFIED:20250611T142009Z
UID:27186-1787443200-1787529599@grainloftwisconsin.com
SUMMARY:CLOSED
DESCRIPTION:
URL:http://grainloftwisconsin.com/event/closed-984/
END:VEVENT
BEGIN:VEVENT
DTSTART;VALUE=DATE:20260828
DTEND;VALUE=DATE:20260829
DTSTAMP:20260423T155244
CREATED:20250414T154855Z
LAST-MODIFIED:20250423T231835Z
UID:27146-1787875200-1787961599@grainloftwisconsin.com
SUMMARY:Doperalski / Sonnenberg Wedding
DESCRIPTION:
URL:http://grainloftwisconsin.com/event/pending-wedding-181/
END:VEVENT
BEGIN:VEVENT
DTSTART;VALUE=DATE:20260829
DTEND;VALUE=DATE:20260830
DTSTAMP:20260423T155244
CREATED:20250330T160853Z
LAST-MODIFIED:20250330T162413Z
UID:27128-1787961600-1788047999@grainloftwisconsin.com
SUMMARY:Gerber / Howe Wedding
DESCRIPTION:
URL:http://grainloftwisconsin.com/event/pending-wedding-177/
END:VEVENT
BEGIN:VEVENT
DTSTART;VALUE=DATE:20260830
DTEND;VALUE=DATE:20260831
DTSTAMP:20260423T155244
CREATED:20250414T154928Z
LAST-MODIFIED:20250414T154928Z
UID:27148-1788048000-1788134399@grainloftwisconsin.com
SUMMARY:CLOSED
DESCRIPTION:
URL:http://grainloftwisconsin.com/event/closed-979/
END:VEVENT
BEGIN:VEVENT
DTSTART;VALUE=DATE:20260904
DTEND;VALUE=DATE:20260905
DTSTAMP:20260423T155244
CREATED:20250328T191024Z
LAST-MODIFIED:20250407T163746Z
UID:27124-1788480000-1788566399@grainloftwisconsin.com
SUMMARY:Johnson / Gustafson Wedding
DESCRIPTION:
URL:http://grainloftwisconsin.com/event/pending-wedding-176/
END:VEVENT
BEGIN:VEVENT
DTSTART;VALUE=DATE:20260905
DTEND;VALUE=DATE:20260908
DTSTAMP:20260423T155244
CREATED:20250328T191139Z
LAST-MODIFIED:20250328T191139Z
UID:27126-1788566400-1788825599@grainloftwisconsin.com
SUMMARY:CLOSED
DESCRIPTION:
URL:http://grainloftwisconsin.com/event/closed-975/
END:VEVENT
BEGIN:VEVENT
DTSTART;VALUE=DATE:20260912
DTEND;VALUE=DATE:20260913
DTSTAMP:20260423T155244
CREATED:20250308T194948Z
LAST-MODIFIED:20250312T225517Z
UID:27094-1789171200-1789257599@grainloftwisconsin.com
SUMMARY:Kroll / Foytik Wedding
DESCRIPTION:
URL:http://grainloftwisconsin.com/event/pending-wedding-172/
END:VEVENT
BEGIN:VEVENT
DTSTART;TZID=UTC:20260916T170000
DTEND;TZID=UTC:20260916T190000
DTSTAMP:20260423T155244
CREATED:20230125T141316Z
LAST-MODIFIED:20260311T151007Z
UID:26464-1789578000-1789585200@grainloftwisconsin.com
SUMMARY:OPEN HOUSE 5pm - 7pm
DESCRIPTION:No appointment needed\, come check out what The Grain Loft has to offer for you wedding or special event! If you’ve already booked your event with us this is a great time to come back and start planning your special day or bring back friends and family to show them the venue and property. Vendors- stop in and get a feel of the space. Staff will be on hand to answer any questions.
URL:http://grainloftwisconsin.com/event/open-house-5pm-7pm-2/
END:VEVENT
BEGIN:VEVENT
DTSTART;VALUE=DATE:20260918
DTEND;VALUE=DATE:20260919
DTSTAMP:20260423T155244
CREATED:20260228T185524Z
LAST-MODIFIED:20260228T185524Z
UID:27316-1789689600-1789775999@grainloftwisconsin.com
SUMMARY:Yenter / Zebell Wedding
DESCRIPTION:
URL:http://grainloftwisconsin.com/event/yenter-zebell-wedding/
END:VEVENT
BEGIN:VEVENT
DTSTART;VALUE=DATE:20260926
DTEND;VALUE=DATE:20260927
DTSTAMP:20260423T155244
CREATED:20250120T165413Z
LAST-MODIFIED:20250203T221056Z
UID:27035-1790380800-1790467199@grainloftwisconsin.com
SUMMARY:Langston / Schneider Wedding
DESCRIPTION:
URL:http://grainloftwisconsin.com/event/pending-wedding-164/
END:VEVENT
BEGIN:VEVENT
DTSTART;VALUE=DATE:20261002
DTEND;VALUE=DATE:20261003
DTSTAMP:20260423T155244
CREATED:20250719T011552Z
LAST-MODIFIED:20250724T230412Z
UID:27202-1790899200-1790985599@grainloftwisconsin.com
SUMMARY:Jenerjohn / Haasch Wedding
DESCRIPTION:
URL:http://grainloftwisconsin.com/event/pending-wedding-192/
END:VEVENT
BEGIN:VEVENT
DTSTART;VALUE=DATE:20261003
DTEND;VALUE=DATE:20261004
DTSTAMP:20260423T155244
CREATED:20250222T210535Z
LAST-MODIFIED:20250318T171626Z
UID:27064-1790985600-1791071999@grainloftwisconsin.com
SUMMARY:Paulsen / Cleland Wedding
DESCRIPTION:
URL:http://grainloftwisconsin.com/event/pending-wedding-170/
END:VEVENT
BEGIN:VEVENT
DTSTART;VALUE=DATE:20261004
DTEND;VALUE=DATE:20261005
DTSTAMP:20260423T155244
CREATED:20250719T011626Z
LAST-MODIFIED:20250719T011626Z
UID:27204-1791072000-1791158399@grainloftwisconsin.com
SUMMARY:CLOSED
DESCRIPTION:
URL:http://grainloftwisconsin.com/event/closed-985/
END:VEVENT
BEGIN:VEVENT
DTSTART;VALUE=DATE:20261009
DTEND;VALUE=DATE:20261010
DTSTAMP:20260423T155244
CREATED:20240926T010724Z
LAST-MODIFIED:20241010T004911Z
UID:26972-1791504000-1791590399@grainloftwisconsin.com
SUMMARY:Mailhiot / Compton Wedding
DESCRIPTION:
URL:http://grainloftwisconsin.com/event/pending-wedding-153/
END:VEVENT
BEGIN:VEVENT
DTSTART;VALUE=DATE:20261010
DTEND;VALUE=DATE:20261011
DTSTAMP:20260423T155244
CREATED:20241218T013448Z
LAST-MODIFIED:20250104T195621Z
UID:27015-1791590400-1791676799@grainloftwisconsin.com
SUMMARY:Tisdale / Douma Wedding
DESCRIPTION:
URL:http://grainloftwisconsin.com/event/pending-wedding-160/
END:VEVENT
BEGIN:VEVENT
DTSTART;VALUE=DATE:20261011
DTEND;VALUE=DATE:20261012
DTSTAMP:20260423T155244
CREATED:20241218T013537Z
LAST-MODIFIED:20241218T013537Z
UID:27017-1791676800-1791763199@grainloftwisconsin.com
SUMMARY:CLOSED
DESCRIPTION:
URL:http://grainloftwisconsin.com/event/closed-970/
END:VEVENT
BEGIN:VEVENT
DTSTART;VALUE=DATE:20261016
DTEND;VALUE=DATE:20261017
DTSTAMP:20260423T155244
CREATED:20240824T180529Z
LAST-MODIFIED:20240922T022949Z
UID:26926-1792108800-1792195199@grainloftwisconsin.com
SUMMARY:Private Event
DESCRIPTION:
URL:http://grainloftwisconsin.com/event/pending-wedding-146/
END:VEVENT
BEGIN:VEVENT
DTSTART;VALUE=DATE:20261017
DTEND;VALUE=DATE:20261018
DTSTAMP:20260423T155244
CREATED:20250120T165448Z
LAST-MODIFIED:20250128T203920Z
UID:27037-1792195200-1792281599@grainloftwisconsin.com
SUMMARY:Sivak / Yurek Wedding
DESCRIPTION:
URL:http://grainloftwisconsin.com/event/pending-wedding-165/
END:VEVENT
BEGIN:VEVENT
DTSTART;VALUE=DATE:20261018
DTEND;VALUE=DATE:20261019
DTSTAMP:20260423T155244
CREATED:20250120T165536Z
LAST-MODIFIED:20250120T165536Z
UID:27039-1792281600-1792367999@grainloftwisconsin.com
SUMMARY:CLOSED
DESCRIPTION:
URL:http://grainloftwisconsin.com/event/closed-959/
END:VEVENT
BEGIN:VEVENT
DTSTART;VALUE=DATE:20261023
DTEND;VALUE=DATE:20261024
DTSTAMP:20260423T155244
CREATED:20251123T185306Z
LAST-MODIFIED:20251203T231346Z
UID:27261-1792713600-1792799999@grainloftwisconsin.com
SUMMARY:Breen / Streator Wedding
DESCRIPTION:
URL:http://grainloftwisconsin.com/event/pending-wedding-203/
END:VEVENT
BEGIN:VEVENT
DTSTART;VALUE=DATE:20261024
DTEND;VALUE=DATE:20261025
DTSTAMP:20260423T155244
CREATED:20251119T012131Z
LAST-MODIFIED:20251129T223717Z
UID:27259-1792800000-1792886399@grainloftwisconsin.com
SUMMARY:Sipe / Saldana Wedding
DESCRIPTION:
URL:http://grainloftwisconsin.com/event/pending-wedding-202/
END:VEVENT
BEGIN:VEVENT
DTSTART;VALUE=DATE:20261026
DTEND;VALUE=DATE:20261027
DTSTAMP:20260423T155244
CREATED:20251123T185340Z
LAST-MODIFIED:20251123T185340Z
UID:27263-1792972800-1793059199@grainloftwisconsin.com
SUMMARY:CLOSED
DESCRIPTION:
URL:http://grainloftwisconsin.com/event/closed-988/
END:VEVENT
BEGIN:VEVENT
DTSTART;VALUE=DATE:20261031
DTEND;VALUE=DATE:20261101
DTSTAMP:20260423T155244
CREATED:20250828T002031Z
LAST-MODIFIED:20250923T225914Z
UID:27217-1793404800-1793491199@grainloftwisconsin.com
SUMMARY:Ewert / Taylor Wedding
DESCRIPTION:
URL:http://grainloftwisconsin.com/event/pending-wedding-178/
END:VEVENT
BEGIN:VEVENT
DTSTART;VALUE=DATE:20261107
DTEND;VALUE=DATE:20261108
DTSTAMP:20260423T155244
CREATED:20250626T154122Z
LAST-MODIFIED:20250702T191804Z
UID:27189-1794009600-1794095999@grainloftwisconsin.com
SUMMARY:Turner / Knoeck Wedding
DESCRIPTION:
URL:http://grainloftwisconsin.com/event/pending-wedding-188/
END:VEVENT
BEGIN:VEVENT
DTSTART;VALUE=DATE:20261113
DTEND;VALUE=DATE:20261115
DTSTAMP:20260423T155244
CREATED:20251211T172812Z
LAST-MODIFIED:20251211T172812Z
UID:27277-1794528000-1794700799@grainloftwisconsin.com
SUMMARY:Pending Rehearsal TBD
DESCRIPTION:
URL:http://grainloftwisconsin.com/event/pending-rehearsal-tbd/
END:VEVENT
BEGIN:VEVENT
DTSTART;TZID=UTC:20261114T080000
DTEND;TZID=UTC:20261114T170000
DTSTAMP:20260423T155244
CREATED:20251211T172645Z
LAST-MODIFIED:20251218T211304Z
UID:27275-1794643200-1794675600@grainloftwisconsin.com
SUMMARY:Haug / Wendelborn Wedding
DESCRIPTION:
URL:http://grainloftwisconsin.com/event/pending-wedding-205/
END:VEVENT
BEGIN:VEVENT
DTSTART;VALUE=DATE:20270501
DTEND;VALUE=DATE:20270502
DTSTAMP:20260423T155244
CREATED:20251112T150959Z
LAST-MODIFIED:20251119T000547Z
UID:27244-1809129600-1809215999@grainloftwisconsin.com
SUMMARY:Kaal-Jack / Yoh Wedding
DESCRIPTION:
URL:http://grainloftwisconsin.com/event/pending-wedding-200/
END:VEVENT
BEGIN:VEVENT
DTSTART;VALUE=DATE:20270521
DTEND;VALUE=DATE:20270522
DTSTAMP:20260423T155244
CREATED:20260103T195644Z
LAST-MODIFIED:20260109T174929Z
UID:27282-1810857600-1810943999@grainloftwisconsin.com
SUMMARY:Bukoski / Hensel Wedding
DESCRIPTION:
URL:http://grainloftwisconsin.com/event/pending-wedding-206/
END:VEVENT
END:VCALENDAR