BEGIN:VCALENDAR
VERSION:2.0
PRODID:-//Grain Loft Wisconsin - ECPv6.15.20//NONSGML v1.0//EN
CALSCALE:GREGORIAN
METHOD:PUBLISH
X-WR-CALNAME:Grain Loft Wisconsin
X-ORIGINAL-URL:http://grainloftwisconsin.com
X-WR-CALDESC:Events for Grain Loft Wisconsin
REFRESH-INTERVAL;VALUE=DURATION:PT1H
X-Robots-Tag:noindex
X-PUBLISHED-TTL:PT1H
BEGIN:VTIMEZONE
TZID:UTC
BEGIN:STANDARD
TZOFFSETFROM:+0000
TZOFFSETTO:+0000
TZNAME:UTC
DTSTART:20230101T000000
END:STANDARD
END:VTIMEZONE
BEGIN:VEVENT
DTSTART;VALUE=DATE:20240726
DTEND;VALUE=DATE:20240727
DTSTAMP:20260419T152553
CREATED:20240514T174420Z
LAST-MODIFIED:20240514T174420Z
UID:26885-1721952000-1722038399@grainloftwisconsin.com
SUMMARY:Hillyard / Pryor Wedding
DESCRIPTION:
URL:http://grainloftwisconsin.com/event/hillyard-pryor-wedding/
END:VEVENT
BEGIN:VEVENT
DTSTART;VALUE=DATE:20240727
DTEND;VALUE=DATE:20240728
DTSTAMP:20260419T152553
CREATED:20220726T150221Z
LAST-MODIFIED:20220805T161435Z
UID:25834-1722038400-1722124799@grainloftwisconsin.com
SUMMARY:Argall / Rukamp Wedding
DESCRIPTION:
URL:http://grainloftwisconsin.com/event/pending-wedding-85/
END:VEVENT
BEGIN:VEVENT
DTSTART;VALUE=DATE:20240728
DTEND;VALUE=DATE:20240729
DTSTAMP:20260419T152553
CREATED:20240611T170235Z
LAST-MODIFIED:20240611T170235Z
UID:26889-1722124800-1722211199@grainloftwisconsin.com
SUMMARY:CLOSED
DESCRIPTION:
URL:http://grainloftwisconsin.com/event/closed-942/
END:VEVENT
BEGIN:VEVENT
DTSTART;VALUE=DATE:20240802
DTEND;VALUE=DATE:20240803
DTSTAMP:20260419T152553
CREATED:20230422T200050Z
LAST-MODIFIED:20230425T143804Z
UID:26630-1722556800-1722643199@grainloftwisconsin.com
SUMMARY:Klansky / Wepner Wedding
DESCRIPTION:
URL:http://grainloftwisconsin.com/event/pending-wedding-111/
END:VEVENT
BEGIN:VEVENT
DTSTART;VALUE=DATE:20240803
DTEND;VALUE=DATE:20240804
DTSTAMP:20260419T152553
CREATED:20230115T075843Z
LAST-MODIFIED:20230127T171226Z
UID:26455-1722643200-1722729599@grainloftwisconsin.com
SUMMARY:King / Powell Wedding
DESCRIPTION:
URL:http://grainloftwisconsin.com/event/pending-wedding-101/
END:VEVENT
BEGIN:VEVENT
DTSTART;VALUE=DATE:20240804
DTEND;VALUE=DATE:20240805
DTSTAMP:20260419T152553
CREATED:20240307T161202Z
LAST-MODIFIED:20240307T161202Z
UID:26841-1722729600-1722815999@grainloftwisconsin.com
SUMMARY:CLOSED
DESCRIPTION:
URL:http://grainloftwisconsin.com/event/closed-958/
END:VEVENT
BEGIN:VEVENT
DTSTART;VALUE=DATE:20240809
DTEND;VALUE=DATE:20240812
DTSTAMP:20260419T152553
CREATED:20220626T135341Z
LAST-MODIFIED:20220626T135341Z
UID:25540-1723161600-1723420799@grainloftwisconsin.com
SUMMARY:CLOSED
DESCRIPTION:
URL:http://grainloftwisconsin.com/event/closed-940/
END:VEVENT
BEGIN:VEVENT
DTSTART;VALUE=DATE:20240816
DTEND;VALUE=DATE:20240817
DTSTAMP:20260419T152553
CREATED:20240221T173808Z
LAST-MODIFIED:20240228T181149Z
UID:26808-1723766400-1723852799@grainloftwisconsin.com
SUMMARY:Jennerjohn / Koepke Wedding
DESCRIPTION:
URL:http://grainloftwisconsin.com/event/pending-wedding-132/
END:VEVENT
BEGIN:VEVENT
DTSTART;VALUE=DATE:20240817
DTEND;VALUE=DATE:20240818
DTSTAMP:20260419T152553
CREATED:20220603T015125Z
LAST-MODIFIED:20220609T210636Z
UID:25314-1723852800-1723939199@grainloftwisconsin.com
SUMMARY:Schaffer / Durand Wedding
DESCRIPTION:
URL:http://grainloftwisconsin.com/event/pending-wedding-83/
END:VEVENT
BEGIN:VEVENT
DTSTART;VALUE=DATE:20240818
DTEND;VALUE=DATE:20240819
DTSTAMP:20260419T152553
CREATED:20240307T160753Z
LAST-MODIFIED:20240307T160753Z
UID:26830-1723939200-1724025599@grainloftwisconsin.com
SUMMARY:CLOSED
DESCRIPTION:
URL:http://grainloftwisconsin.com/event/closed-953/
END:VEVENT
BEGIN:VEVENT
DTSTART;VALUE=DATE:20240823
DTEND;VALUE=DATE:20240824
DTSTAMP:20260419T152553
CREATED:20230707T022654Z
LAST-MODIFIED:20230714T155556Z
UID:26664-1724371200-1724457599@grainloftwisconsin.com
SUMMARY:Goss / Meyer Wedding
DESCRIPTION:
URL:http://grainloftwisconsin.com/event/pending-wedding-114/
END:VEVENT
BEGIN:VEVENT
DTSTART;VALUE=DATE:20240824
DTEND;VALUE=DATE:20240825
DTSTAMP:20260419T152553
CREATED:20230213T162927Z
LAST-MODIFIED:20230217T191430Z
UID:26540-1724457600-1724543999@grainloftwisconsin.com
SUMMARY:Winter / Ramm Wedding
DESCRIPTION:
URL:http://grainloftwisconsin.com/event/pending-wedding-103/
END:VEVENT
BEGIN:VEVENT
DTSTART;VALUE=DATE:20240825
DTEND;VALUE=DATE:20240826
DTSTAMP:20260419T152553
CREATED:20230707T022732Z
LAST-MODIFIED:20230707T022732Z
UID:26666-1724544000-1724630399@grainloftwisconsin.com
SUMMARY:CLOSED
DESCRIPTION:
URL:http://grainloftwisconsin.com/event/closed-945/
END:VEVENT
BEGIN:VEVENT
DTSTART;VALUE=DATE:20240901
DTEND;VALUE=DATE:20240903
DTSTAMP:20260419T152553
CREATED:20220325T154328Z
LAST-MODIFIED:20240129T173824Z
UID:24376-1725148800-1725321599@grainloftwisconsin.com
SUMMARY:CLOSED
DESCRIPTION:
URL:http://grainloftwisconsin.com/event/closed-928/
END:VEVENT
BEGIN:VEVENT
DTSTART;VALUE=DATE:20240907
DTEND;VALUE=DATE:20240908
DTSTAMP:20260419T152553
CREATED:20230417T151732Z
LAST-MODIFIED:20230422T171638Z
UID:26624-1725667200-1725753599@grainloftwisconsin.com
SUMMARY:Jacobs / Brehmer Wedding
DESCRIPTION:
URL:http://grainloftwisconsin.com/event/pending-wedding-110/
END:VEVENT
BEGIN:VEVENT
DTSTART;VALUE=DATE:20240913
DTEND;VALUE=DATE:20240914
DTSTAMP:20260419T152553
CREATED:20240430T212850Z
LAST-MODIFIED:20240509T162500Z
UID:26876-1726185600-1726271999@grainloftwisconsin.com
SUMMARY:McCaffrey / Ford Wedding
DESCRIPTION:
URL:http://grainloftwisconsin.com/event/pending-wedding-137/
END:VEVENT
BEGIN:VEVENT
DTSTART;VALUE=DATE:20240914
DTEND;VALUE=DATE:20240915
DTSTAMP:20260419T152553
CREATED:20230331T131656Z
LAST-MODIFIED:20230401T015150Z
UID:26609-1726272000-1726358399@grainloftwisconsin.com
SUMMARY:Hensley / Orr Wedding
DESCRIPTION:
URL:http://grainloftwisconsin.com/event/pending-wedding-100/
END:VEVENT
BEGIN:VEVENT
DTSTART;VALUE=DATE:20240921
DTEND;VALUE=DATE:20240922
DTSTAMP:20260419T152553
CREATED:20230306T144020Z
LAST-MODIFIED:20230313T190229Z
UID:26599-1726876800-1726963199@grainloftwisconsin.com
SUMMARY:Mayotte / Haase Wedding
DESCRIPTION:
URL:http://grainloftwisconsin.com/event/pending-wedding-105/
END:VEVENT
BEGIN:VEVENT
DTSTART;VALUE=DATE:20240928
DTEND;VALUE=DATE:20240929
DTSTAMP:20260419T152553
CREATED:20231104T134152Z
LAST-MODIFIED:20231114T164836Z
UID:26746-1727481600-1727567999@grainloftwisconsin.com
SUMMARY:Thompson / Garcia Wedding
DESCRIPTION:
URL:http://grainloftwisconsin.com/event/pending-wedding-127/
END:VEVENT
BEGIN:VEVENT
DTSTART;VALUE=DATE:20241004
DTEND;VALUE=DATE:20241005
DTSTAMP:20260419T152553
CREATED:20240510T014217Z
LAST-MODIFIED:20240611T165413Z
UID:26883-1728000000-1728086399@grainloftwisconsin.com
SUMMARY:Venus / Lingsweiler Wedding
DESCRIPTION:
URL:http://grainloftwisconsin.com/event/pending-wedding-138/
END:VEVENT
BEGIN:VEVENT
DTSTART;VALUE=DATE:20241005
DTEND;VALUE=DATE:20241006
DTSTAMP:20260419T152553
CREATED:20240814T142044Z
LAST-MODIFIED:20240816T230342Z
UID:26914-1728086400-1728172799@grainloftwisconsin.com
SUMMARY:Bixler / Wedell Elopement
DESCRIPTION:
URL:http://grainloftwisconsin.com/event/pending-elopement/
END:VEVENT
BEGIN:VEVENT
DTSTART;VALUE=DATE:20241011
DTEND;VALUE=DATE:20241012
DTSTAMP:20260419T152553
CREATED:20240307T160603Z
LAST-MODIFIED:20240320T195503Z
UID:26824-1728604800-1728691199@grainloftwisconsin.com
SUMMARY:George / Haag Wedding
DESCRIPTION:
URL:http://grainloftwisconsin.com/event/pending-wedding-131/
END:VEVENT
BEGIN:VEVENT
DTSTART;VALUE=DATE:20241012
DTEND;VALUE=DATE:20241013
DTSTAMP:20260419T152553
CREATED:20221015T222657Z
LAST-MODIFIED:20221026T141732Z
UID:26375-1728691200-1728777599@grainloftwisconsin.com
SUMMARY:Gustafson / Sylvester Wedding
DESCRIPTION:
URL:http://grainloftwisconsin.com/event/pending-wedding-93/
END:VEVENT
BEGIN:VEVENT
DTSTART;VALUE=DATE:20241013
DTEND;VALUE=DATE:20241014
DTSTAMP:20260419T152553
CREATED:20240307T160707Z
LAST-MODIFIED:20240307T161355Z
UID:26828-1728777600-1728863999@grainloftwisconsin.com
SUMMARY:CLOSED
DESCRIPTION:
URL:http://grainloftwisconsin.com/event/closed-930/
END:VEVENT
BEGIN:VEVENT
DTSTART;VALUE=DATE:20241018
DTEND;VALUE=DATE:20241019
DTSTAMP:20260419T152553
CREATED:20231102T132502Z
LAST-MODIFIED:20231107T142024Z
UID:26743-1729209600-1729295999@grainloftwisconsin.com
SUMMARY:Raykovich / Froberg Wedding
DESCRIPTION:
URL:http://grainloftwisconsin.com/event/pending-wedding-126/
END:VEVENT
BEGIN:VEVENT
DTSTART;VALUE=DATE:20241019
DTEND;VALUE=DATE:20241020
DTSTAMP:20260419T152553
CREATED:20230129T222213Z
LAST-MODIFIED:20230209T160624Z
UID:26478-1729296000-1729382399@grainloftwisconsin.com
SUMMARY:Wied / Lee Wedding
DESCRIPTION:
URL:http://grainloftwisconsin.com/event/pending-wedding-102/
END:VEVENT
BEGIN:VEVENT
DTSTART;VALUE=DATE:20241020
DTEND;VALUE=DATE:20241021
DTSTAMP:20260419T152553
CREATED:20231104T134401Z
LAST-MODIFIED:20231104T134401Z
UID:26748-1729382400-1729468799@grainloftwisconsin.com
SUMMARY:CLOSED
DESCRIPTION:
URL:http://grainloftwisconsin.com/event/closed-946/
END:VEVENT
BEGIN:VEVENT
DTSTART;VALUE=DATE:20241025
DTEND;VALUE=DATE:20241026
DTSTAMP:20260419T152553
CREATED:20220325T154726Z
LAST-MODIFIED:20221112T163347Z
UID:24378-1729814400-1729900799@grainloftwisconsin.com
SUMMARY:CLOSED
DESCRIPTION:
URL:http://grainloftwisconsin.com/event/closed-929/
END:VEVENT
BEGIN:VEVENT
DTSTART;VALUE=DATE:20241026
DTEND;VALUE=DATE:20241027
DTSTAMP:20260419T152553
CREATED:20230902T135740Z
LAST-MODIFIED:20230919T232204Z
UID:26717-1729900800-1729987199@grainloftwisconsin.com
SUMMARY:Sommerfeld / Marquardt Wedding
DESCRIPTION:
URL:http://grainloftwisconsin.com/event/pending-wedding-119/
END:VEVENT
BEGIN:VEVENT
DTSTART;VALUE=DATE:20241027
DTEND;VALUE=DATE:20241028
DTSTAMP:20260419T152553
CREATED:20231104T134500Z
LAST-MODIFIED:20231104T134500Z
UID:26750-1729987200-1730073599@grainloftwisconsin.com
SUMMARY:CLOSED
DESCRIPTION:
URL:http://grainloftwisconsin.com/event/closed-947/
END:VEVENT
END:VCALENDAR